Workbook

Sheet INTRODUCCIÓN
C8: INFORME DE GESTIÓN ANUAL
G10: 2020
C13: EDUCACIÓN PRIMARIA.
A24: INSTITUCIÓN EDUCATIVA: | K24: CÓDIGO MODULAR:
A26: APELLIDOS Y NOMBRES DEL DIRECTOR:
A28: N° DE CELULAR: | G28: CORREO ELECTRÓNICO:
A31: NOTA: Para registrar la infomación, se recomienda iniciar por el COMPROMISO 2.

Sheet Compromiso 1
A2: INFORME DE GESTIÓN ANUAL - 2020 - EDUCACIÓN PRIMARIA
A3: COMPROMISO 1: PROGRESO ANUAL DE APRENDIZAJES DE TODOS LOS ESTUDIANTES DE LA INSTITUCIÓN EDUCATIVA
A4: RESULTADOS FINALES DE APRENDIZAJE 2020 (SIAGIE) | G4: INDICADORES DE SEGUIMIENTO | H4: LOGROS | I4: DIFICULTADES | J4: PROPUESTA DE MEJORA 2021
A5: MATEMÁTICA | B5: PRIMERO | C5: Competencias | D5: Nivel de logro | E5: Nº 2020 | F5: % 2020 | G5: 1. Número y porcentaje de estudiantes que obtienen un logro destacado en las evaluaciones que genera la propia IE o Programa. 2. Número y porcentaje de estudiantes que se ubican en el nivel de logro esperado de las evaluaciones que genera la propia IE o Programa. 3. Número y porcentaje de estudiantes que se ubican en el nivel en proceso de las evaluaciones que genera la propia IE o Programa
B6: Nº de estudiantes matriculados | C6: Resuelve problemas de forma, movimiento y localización | D6: Logro destacado (AD) | F6: =(E6*100)/$B$8 -> #DIV/0!
D7: Logro esperado (A) | F7: =(E7*100)/$B$8 -> #DIV/0!
B8: =('Compromiso 2'!G6) -> 0 | D8: En Proceso (B) | F8: =(E8*100)/$B$8 -> #DIV/0!
C9: Resuelve problemas de cantidad | D9: Logro destacado (AD) | F9: =(E9*100)/$B$8 -> #DIV/0!
D10: Logro esperado (A) | F10: =(E10*100)/$B$8 -> #DIV/0!
D11: En Proceso (B) | F11: =(E11*100)/$B$8 -> #DIV/0!
C12: Resuelve problemas de gestión de datos e incertidumbre | D12: Logro destacado (AD) | F12: =(E12*100)/$B$8 -> #DIV/0!
D13: Logro esperado (A) | F13: =(E13*100)/$B$8 -> #DIV/0!
D14: En Proceso (B) | F14: =(E14*100)/$B$8 -> #DIV/0!
C15: Resuelve problemas de regularidad, equivalencia y cambio | D15: Logro destacado (AD) | F15: =(E15*100)/$B$8 -> #DIV/0!
D16: Logro esperado (A) | F16: =(E16*100)/$B$8 -> #DIV/0!
D17: En Proceso (B) | F17: =(E17*100)/$B$8 -> #DIV/0!
B18: SEGUNDO | C18: Competencias | D18: Nivel de logro | E18: Nº 2020 | F18: % 2020 | H18: LOGROS | I18: DIFICULTADES | J18: PROPUESTA DE MEJORA 2021
B19: Nº de estudiantes matriculados | C19: Resuelve problemas de forma, movimiento y localización | D19: Logro destacado (AD) | F19: =(E19*100)/$B$20 -> #DIV/0!
B20: =('Compromiso 2'!G8) -> 0 | D20: Logro esperado (A) | F20: =(E20*100)/$B$20 -> #DIV/0!
D21: En Proceso (B) | F21: =(E21*100)/$B$20 -> #DIV/0!
C22: Resuelve problemas de cantidad | D22: Logro destacado (AD) | F22: =(E22*100)/$B$20 -> #DIV/0!
D23: Logro esperado (A) | F23: =(E23*100)/$B$20 -> #DIV/0!
D24: En Proceso (B) | F24: =(E24*100)/$B$20 -> #DIV/0!
C25: Resuelve problemas de gestión de datos e incertidumbre | D25: Logro destacado (AD) | F25: =(E25*100)/$B$20 -> #DIV/0!
D26: Logro esperado (A) | F26: =(E26*100)/$B$20 -> #DIV/0!
D27: En Proceso (B) | F27: =(E27*100)/$B$20 -> #DIV/0!
C28: Resuelve problemas de regularidad, equivalencia y cambio | D28: Logro destacado (AD) | F28: =(E28*100)/$B$20 -> #DIV/0!
D29: Logro esperado (A) | F29: =(E29*100)/$B$20 -> #DIV/0!
D30: En Proceso (B) | F30: =(E30*100)/$B$20 -> #DIV/0!
B31: TERCERO | C31: Competencias | D31: Nivel de logro | E31: Nº 2020 | F31: % 2020 | H31: LOGROS | I31: DIFICULTADES | J31: PROPUESTA DE MEJORA 2021
B32: Nº de estudiantes matriculados | C32: Resuelve problemas de forma, movimiento y localización | D32: Logro destacado (AD) | F32: =(E32*100)/$B$33 -> #DIV/0!
B33: =('Compromiso 2'!G10) -> 0 | D33: Logro esperado (A) | F33: =(E33*100)/$B$33 -> #DIV/0!
D34: En Proceso (B) | F34: =(E34*100)/$B$33 -> #DIV/0!
C35: Resuelve problemas de cantidad | D35: Logro destacado (AD) | F35: =(E35*100)/$B$33 -> #DIV/0!
D36: Logro esperado (A) | F36: =(E36*100)/$B$33 -> #DIV/0!
D37: En Proceso (B) | F37: =(E37*100)/$B$33 -> #DIV/0!
C38: Resuelve problemas de gestión de datos e incertidumbre | D38: Logro destacado (AD) | F38: =(E38*100)/$B$33 -> #DIV/0!
D39: Logro esperado (A) | F39: =(E39*100)/$B$33 -> #DIV/0!
D40: En Proceso (B) | F40: =(E40*100)/$B$33 -> #DIV/0!
C41: Resuelve problemas de regularidad, equivalencia y cambio | D41: Logro destacado (AD) | F41: =(E41*100)/$B$33 -> #DIV/0!
D42: Logro esperado (A) | F42: =(E42*100)/$B$33 -> #DIV/0!
D43: En Proceso (B) | F43: =(E43*100)/$B$33 -> #DIV/0!
B44: CUARTO | C44: Competencias | D44: Nivel de logro | E44: Nº 2020 | F44: % 2020 | H44: LOGROS | I44: DIFICULTADES | J44: PROPUESTA DE MEJORA 2021
B45: Nº de estudiantes matriculados | C45: Resuelve problemas de forma, movimiento y localización | D45: Logro destacado (AD) | F45: =(E45*100)/$B$47 -> #DIV/0!
D46: Logro esperado (A) | F46: =(E46*100)/$B$47 -> #DIV/0!
B47: =('Compromiso 2'!G12) -> 0 | D47: En Proceso (B) | F47: =(E47*100)/$B$47 -> #DIV/0!
C48: Resuelve problemas de cantidad | D48: Logro destacado (AD) | F48: =(E48*100)/$B$47 -> #DIV/0!
D49: Logro esperado (A) | F49: =(E49*100)/$B$47 -> #DIV/0!
D50: En Proceso (B) | F50: =(E50*100)/$B$47 -> #DIV/0!
C51: Resuelve problemas de gestión de datos e incertidumbre | D51: Logro destacado (AD) | F51: =(E51*100)/$B$47 -> #DIV/0!
D52: Logro esperado (A) | F52: =(E52*100)/$B$47 -> #DIV/0!
D53: En Proceso (B) | F53: =(E53*100)/$B$47 -> #DIV/0!
C54: Resuelve problemas de regularidad, equivalencia y cambio | D54: Logro destacado (AD) | F54: =(E54*100)/$B$47 -> #DIV/0!
D55: Logro esperado (A) | F55: =(E55*100)/$B$47 -> #DIV/0!
D56: En Proceso (B) | F56: =(E56*100)/$B$47 -> #DIV/0!
B57: QUINTO | C57: Competencias | D57: Nivel de logro | E57: Nº 2020 | F57: % 2020 | H57: LOGROS | I57: DIFICULTADES | J57: PROPUESTA DE MEJORA 2021
B58: Nº de estudiantes matriculados | C58: Resuelve problemas de forma, movimiento y localización | D58: Logro destacado (AD) | F58: =(E58*100)/$B$60 -> #DIV/0!
D59: Logro esperado (A) | F59: =(E59*100)/$B$60 -> #DIV/0!
B60: =('Compromiso 2'!G14) -> 0 | D60: En Proceso (B) | F60: =(E60*100)/$B$60 -> #DIV/0!
C61: Resuelve problemas de cantidad | D61: Logro destacado (AD) | F61: =(E61*100)/$B$60 -> #DIV/0!
D62: Logro esperado (A) | F62: =(E62*100)/$B$60 -> #DIV/0!
D63: En Proceso (B) | F63: =(E63*100)/$B$60 -> #DIV/0!
C64: Resuelve problemas de gestión de datos e incertidumbre | D64: Logro destacado (AD) | F64: =(E64*100)/$B$60 -> #DIV/0!
D65: Logro esperado (A) | F65: =(E65*100)/$B$60 -> #DIV/0!
D66: En Proceso (B) | F66: =(E66*100)/$B$60 -> #DIV/0!
C67: Resuelve problemas de regularidad, equivalencia y cambio | D67: Logro destacado (AD) | F67: =(E67*100)/$B$60 -> #DIV/0!
D68: Logro esperado (A) | F68: =(E68*100)/$B$60 -> #DIV/0!
D69: En Proceso (B) | F69: =(E69*100)/$B$60 -> #DIV/0!
B70: SEXTO | C70: Competencias | D70: Nivel de logro | E70: Nº 2020 | F70: % 2020 | H70: LOGROS | I70: DIFICULTADES | J70: PROPUESTA DE MEJORA 2021
B71: Nº de estudiantes matriculados | C71: Resuelve problemas de forma, movimiento y localización | D71: Logro destacado (AD) | F71: =(E71*100)/$B$73 -> #DIV/0!
D72: Logro esperado (A) | F72: =(E72*100)/$B$73 -> #DIV/0!
B73: =('Compromiso 2'!G16) -> 0 | D73: En Proceso (B) | F73: =(E73*100)/$B$73 -> #DIV/0!
C74: Resuelve problemas de cantidad | D74: Logro destacado (AD) | F74: =(E74*100)/$B$73 -> #DIV/0!
D75: Logro esperado (A) | F75: =(E75*100)/$B$73 -> #DIV/0!
D76: En Proceso (B) | F76: =(E76*100)/$B$73 -> #DIV/0!
C77: Resuelve problemas de gestión de datos e incertidumbre | D77: Logro destacado (AD) | F77: =(E77*100)/$B$73 -> #DIV/0!
D78: Logro esperado (A) | F78: =(E78*100)/$B$73 -> #DIV/0!
D79: En Proceso (B) | F79: =(E79*100)/$B$73 -> #DIV/0!
C80: Resuelve problemas de regularidad, equivalencia y cambio | D80: Logro destacado (AD) | F80: =(E80*100)/$B$73 -> #DIV/0!
D81: Logro esperado (A) | F81: =(E81*100)/$B$73 -> #DIV/0!
D82: En Proceso (B) | F82: =(E82*100)/$B$73 -> #DIV/0!
A83: COMUNICACIÓN | B83: PRIMERO | C83: Competencia | D83: Nivel de logro | E83: Nº 2020 | F83: % 2020 | H83: LOGROS | I83: DIFICULTADES | J83: PROPUESTA DE MEJORA 2021
B84: Nº de estudiantes matriculados | C84: Se comunica oralmente en su lengua materna | D84: Logro destacado (AD) | F84: =(E84*100)/$B$86 -> #DIV/0!
D85: Logro esperado (A) | F85: =(E85*100)/$B$86 -> #DIV/0!
B86: =('Compromiso 2'!G6) -> 0 | D86: En Proceso (B) | F86: =(E86*100)/$B$86 -> #DIV/0!
C87: Lee diversos tipos de textos escritos en su lengua materna | D87: Logro destacado (AD) | F87: =(E87*100)/$B$86 -> #DIV/0!
D88: Logro esperado (A) | F88: =(E88*100)/$B$86 -> #DIV/0!
D89: En Proceso (B) | F89: =(E89*100)/$B$86 -> #DIV/0!
C90: Escribe diversos tipos de textos en su lengua materna | D90: Logro destacado (AD) | F90: =(E90*100)/$B$86 -> #DIV/0!
D91: Logro esperado (A) | F91: =(E91*100)/$B$86 -> #DIV/0!
D92: En Proceso (B) | F92: =(E92*100)/$B$86 -> #DIV/0!
B93: SEGUNDO | C93: Competencia | D93: Nivel de logro | E93: Nº 2020 | F93: % 2020 | H93: LOGROS | I93: DIFICULTADES | J93: PROPUESTA DE MEJORA 2021
B94: Nº de estudiantes matriculados | C94: Se comunica oralmente en su lengua materna | D94: Logro destacado (AD) | F94: =(E94*100)/$B$96 -> #DIV/0!
D95: Logro esperado (A) | F95: =(E95*100)/$B$96 -> #DIV/0!
B96: =('Compromiso 2'!G8) -> 0 | D96: En Proceso (B) | F96: =(E96*100)/$B$96 -> #DIV/0!
C97: Lee diversos tipos de textos escritos en su lengua materna | D97: Logro destacado (AD) | F97: =(E97*100)/$B$96 -> #DIV/0!
D98: Logro esperado (A) | F98: =(E98*100)/$B$96 -> #DIV/0!
D99: En Proceso (B) | F99: =(E99*100)/$B$96 -> #DIV/0!
C100: Escribe diversos tipos de textos en su lengua materna | D100: Logro destacado (AD) | F100: =(E100*100)/$B$96 -> #DIV/0!
D101: Logro esperado (A) | F101: =(E101*100)/$B$96 -> #DIV/0!
...

Sheet Compromiso 2
A2: INFORME DE GESTIÓN ANUAL - EDUCACIÓN PRIMARIA 2020
A3: COMPROMISO 2: ACCESO Y PERMANENCIA DE LAS Y LOS ESTUDIANTES
A4: INDICADOR DE SEGUIMIENTO | B4: Grado | C4: Datos | D4: Matrícula inicial 2020 | H4: Aprobados 2020 | K4: Requieren Recuperación 2020 | N4: No accedieron 2020 | Q4: Fallecidos 2020 | T4: Traslados 2020 | W4: Conclusión 2020 | Z4: CAUSAS | AA4: ACTIVIDADES IMPLEMENTADAS | AB4: EVIDENCIAS | AC4: INDICADORES DE SEGUIMIENTO | AD4: LOGROS | AE4: DIFICULTADES | AF4: PROPUESTA DE MEJORA 2021
D5: H | E5: M | F5: T | H5: H | I5: M | J5: T | K5: H | L5: M | M5: T | N5: H | O5: M | P5: T | Q5: H | R5: M | S5: T | T5: H | U5: M | V5: T | W5: H | X5: M | Y5: T
A6: REDUCCIÓN DEL NÚMERO O PORCENTAJE DE ESTUDIANTES QUE ABANDONAN SUS ESTUDIOS, EN RELACIÓN AL NÚMERO DE MATRICULADOS AL INICIO DEL PERIODO LECTIVO | B6: 1° | C6: N° est. | D6: =(H6+K6+N6+Q6+T6) -> 0 | E6: =(I6+L6+O6+R6+U6) -> 1 | F6: =(D6+E6) -> 1 | G6: =(F6-V6) -> 0 | J6: =(H6+I6) -> 0 | M6: =(L6+K6) -> 0 | P6: =(O6+N6) -> 0 | S6: =(R6+Q6) -> 0 | U6: 1 | V6: =(U6+T6) -> 1 | W6: =(H6+K6+N6) -> 0 | X6: =(I6+L6+O6) -> 0 | Y6: =(W6+X6) -> 0 | AC6: Reducción del número o porcentaje de estudiantes que abandonan sus estudios, en relación al número de matriculados al inicio del periodo lectivo.
C7: % | D7: =(D6*100)/F6 -> 0 | E7: =(E6*100)/F6 -> 100 | F7: =(D7+E7) -> 100 | H7: =(H6*100)/$G$6 -> #DIV/0! | I7: =(I6*100)/$G$6 -> #DIV/0! | J7: =(J6*100)/$G$6 -> #DIV/0! | K7: =(K6*100)/$G$6 -> #DIV/0! | L7: =(L6*100)/$G$6 -> #DIV/0! | M7: =(M6*100)/$G$6 -> #DIV/0! | N7: =(N6*100)/$G$6 -> #DIV/0! | O7: =(O6*100)/$G$6 -> #DIV/0! | ... V7: =(V6*100)/$G$6 -> #DIV/0! | W7: =(W6*100)/$F$6 -> 0 | X7: =(X6*100)/$F$6 -> 0 | Y7: =(Y6*100)/$F$6 -> 0
B8: 2° | C8: N° est. | D8: =(H8+K8+N8+Q8+T8) -> 0 | E8: =(I8+L8+O8+R8+U8) -> 1 | F8: =(D8+E8) -> 1 | G8: =(F8-V8) -> 0 | J8: =(H8+I8) -> 0 | M8: =(L8+K8) -> 0 | P8: =(O8+N8) -> 0 | S8: =(R8+Q8) -> 0 | U8: 1 | V8: =(U8+T8) -> 1 | W8: =(H8+K8+N8) -> 0 | X8: =(I8+L8+O8) -> 0 | Y8: =(W8+X8) -> 0
C9: % | D9: =(D8*100)/F8 -> 0 | E9: =(E8*100)/F8 -> 100 | F9: =(D9+E9) -> 100 | H9: =(H8*100)/$G$8 -> #DIV/0! | I9: =(I8*100)/$G$8 -> #DIV/0! | J9: =(J8*100)/$G$8 -> #DIV/0! | K9: =(K8*100)/$G$8 -> #DIV/0! | L9: =(L8*100)/$G$8 -> #DIV/0! | M9: =(M8*100)/$G$8 -> #DIV/0! | N9: =(N8*100)/$G$8 -> #DIV/0! | O9: =(O8*100)/$G$8 -> #DIV/0! | ... S9: =(S8*100)/$G$8 -> #DIV/0! | T9: =(T8*100)/$F$8 -> 0 | U9: =(U8*100)/$F$8 -> 100 | V9: =(V8*100)/$F$8 -> 100 | W9: =(W8*100)/$F$8 -> 0 | X9: =(X8*100)/$F$8 -> 0 | Y9: =(Y8*100)/$F$8 -> 0
B10: 3° | C10: N° est. | D10: =(H10+K10+N10+Q10+T10) -> 0 | E10: =(I10+L10+O10+R10+U10) -> 1 | F10: =(D10+E10) -> 1 | G10: =(F10-V10) -> 0 | J10: =(H10+I10) -> 0 | M10: =(L10+K10) -> 0 | P10: =(O10+N10) -> 0 | S10: =(R10+Q10) -> 0 | U10: 1 | V10: =(U10+T10) -> 1 | W10: =(H10+K10+N10) -> 0 | X10: =(I10+L10+O10) -> 0 | Y10: =(W10+X10) -> 0
C11: % | D11: =(D10*100)/F10 -> 0 | E11: =(E10*100)/F10 -> 100 | F11: =(D11+E11) -> 100 | H11: =(H10*100)/$G$10 -> #DIV/0! | I11: =(I10*100)/$G$10 -> #DIV/0! | J11: =(J10*100)/$G$10 -> #DIV/0! | K11: =(K10*100)/$G$10 -> #DIV/0! | L11: =(L10*100)/$G$10 -> #DIV/0! | M11: =(M10*100)/$G$10 -> #DIV/0! | N11: =(N10*100)/$G$10 -> #DIV/0! | O11: =(O10*100)/$G$10 -> #DIV/0! | ... S11: =(S10*100)/$G$10 -> #DIV/0! | T11: =(T10*100)/$F$10 -> 0 | U11: =(U10*100)/$F$10 -> 100 | V11: =(V10*100)/$F$10 -> 100 | W11: =(W10*100)/$F$10 -> 0 | X11: =(X10*100)/$F$10 -> 0 | Y11: =(Y10*100)/$F$10 -> 0
B12: 4° | C12: N° est. | D12: =(H12+K12+N12+Q12+T12) -> 0 | E12: =(I12+L12+O12+R12+U12) -> 1 | F12: =(D12+E12) -> 1 | G12: =(F12-V12) -> 0 | J12: =(H12+I12) -> 0 | M12: =(L12+K12) -> 0 | P12: =(O12+N12) -> 0 | S12: =(R12+Q12) -> 0 | U12: 1 | V12: =(U12+T12) -> 1 | W12: =(H12+K12+N12) -> 0 | X12: =(I12+L12+O12) -> 0 | Y12: =(W12+X12) -> 0
C13: % | D13: =(D12*100)/F12 -> 0 | E13: =(E12*100)/F12 -> 100 | F13: =(D13+E13) -> 100 | H13: =(H12*100)/$G$12 -> #DIV/0! | I13: =(I12*100)/$G$12 -> #DIV/0! | J13: =(J12*100)/$G$12 -> #DIV/0! | K13: =(K12*100)/$G$12 -> #DIV/0! | L13: =(L12*100)/$G$12 -> #DIV/0! | M13: =(M12*100)/$G$12 -> #DIV/0! | N13: =(N12*100)/$G$12 -> #DIV/0! | O13: =(O12*100)/$G$12 -> #DIV/0! | ... U13: =(U12*100)/$G$12 -> #DIV/0! | V13: =(V12*100)/$F$12 -> 100 | W13: =(W12*100)/$F$12 -> 0 | X13: =(X12*100)/$F$12 -> 0 | Y13: =(Y12*100)/$F$12 -> 0
B14: 5° | C14: N° est. | D14: =(H14+K14+N14+Q14+T14) -> 0 | E14: =(I14+L14+O14+R14+U14) -> 0 | F14: =(D14+E14) -> 0 | G14: =(F14-V14) -> 0 | J14: =(H14+I14) -> 0 | M14: =(L14+K14) -> 0 | P14: =(O14+N14) -> 0 | S14: =(R14+Q14) -> 0 | V14: =(U14+T14) -> 0 | W14: =(H14+K14+N14) -> 0 | X14: =(I14+L14+O14) -> 0 | Y14: =(W14+X14) -> 0
C15: % | D15: =(D14*100)/F14 -> #DIV/0! | E15: =(E14*100)/F14 -> #DIV/0! | F15: =(D15+E15) -> #DIV/0! | H15: =(H14*100)/$G$14 -> #DIV/0! | I15: =(I14*100)/$G$14 -> #DIV/0! | J15: =(J14*100)/$G$14 -> #DIV/0! | K15: =(K14*100)/$G$14 -> #DIV/0! | L15: =(L14*100)/$G$14 -> #DIV/0! | M15: =(M14*100)/$G$14 -> #DIV/0! | N15: =(N14*100)/$G$14 -> #DIV/0! | O15: =(O14*100)/$G$14 -> #DIV/0! | ... S15: =(S14*100)/$G$14 -> #DIV/0! | T15: =(T14*100)/$F$14 -> #DIV/0! | U15: =(U14*100)/$F$14 -> #DIV/0! | V15: =(V14*100)/$F$14 -> #DIV/0! | W15: =(W14*100)/$F$14 -> #DIV/0! | X15: =(X14*100)/$F$14 -> #DIV/0! | Y15: =(Y14*100)/$F$14 -> #DIV/0!
B16: 6° | C16: N° est. | D16: =(H16+K16+N16+Q16+T16) -> 0 | E16: =(I16+L16+O16+R16+U16) -> 0 | F16: =(D16+E16) -> 0 | G16: =(F16-V16) -> 0 | J16: =(H16+I16) -> 0 | M16: =(L16+K16) -> 0 | P16: =(O16+N16) -> 0 | S16: =(R16+Q16) -> 0 | V16: =(U16+T16) -> 0 | W16: =(H16+K16+N16) -> 0 | X16: =(I16+L16+O16) -> 0 | Y16: =(W16+X16) -> 0
C17: % | D17: =(D16*100)/F16 -> #DIV/0! | E17: =(E16*100)/F16 -> #DIV/0! | F17: =(D17+E17) -> #DIV/0! | H17: =(H16*100)/$G$16 -> #DIV/0! | I17: =(I16*100)/$G$16 -> #DIV/0! | J17: =(J16*100)/$G$16 -> #DIV/0! | K17: =(K16*100)/$G$16 -> #DIV/0! | L17: =(L16*100)/$G$16 -> #DIV/0! | M17: =(M16*100)/$G$16 -> #DIV/0! | N17: =(N16*100)/$G$16 -> #DIV/0! | O17: =(O16*100)/$G$16 -> #DIV/0! | ... S17: =(S16*100)/$G$16 -> #DIV/0! | T17: =(T16*100)/F16 -> #DIV/0! | U17: =(U16*100)/$F$16 -> #DIV/0! | V17: =(V16*100)/$F$16 -> #DIV/0! | W17: =(W16*100)/$F$16 -> #DIV/0! | X17: =(X16*100)/$F$16 -> #DIV/0! | Y17: =(Y16*100)/$F$16 -> #DIV/0!
B18: T | C18: N° est. | D18: =(D6+D8+D10+D12+D14+D16) -> 0 | E18: =(E6+E8+E10+E12+E14+E16) -> 4 | F18: =(D18+E18) -> 4 | G18: =(F18-V18) -> 0 | H18: =(H6+H8+H10+H12+H14+H16) -> 0 | I18: =(I6+I8+I10+I12+I14+I16) -> 0 | J18: =(J6+J8+J10+J12+J14+J16) -> 0 | K18: =(K6+K8+K10+K12+K14+K16) -> 0 | L18: =(L6+L8+L10+L12+L14+L16) -> 0 | M18: =(M6+M8+M10+M12+M14+M16) -> 0 | N18: =(N6+N8+N10+N12+N14+N16) -> 0 | O18: =(O6+O8+O10+O12+O14+O16) -> 0 | ... X18: =(X6+X8+X10+X12+X14+X16) -> 0 | Y18: =(W18+X18) -> 0
C19: % | D19: =(D18*100)/F18 -> 0 | E19: =(E18*100)/F18 -> 100 | F19: =(D19+E19) -> 100 | H19: =(H18*100)/$G$18 -> #DIV/0! | I19: =(I18*100)/$G$18 -> #DIV/0! | J19: =(J18*100)/$G$18 -> #DIV/0! | K19: =(K18*100)/$G$18 -> #DIV/0! | L19: =(L18*100)/$G$18 -> #DIV/0! | M19: =(M18*100)/$G$18 -> #DIV/0! | N19: =(N18*100)/$G$18 -> #DIV/0! | O19: =(O18*100)/$G$18 -> #DIV/0! | ... V19: =(V18*100)/$G$18 -> #DIV/0! | W19: =(W18*100)/$F$18 -> 0 | X19: =(X18*100)/$F$18 -> 0 | Y19: =(Y18*100)/$F$18 -> 0
C22: Firmado digitalmente por:
C23: Prof. Yrene XXXXXXXXXXX
C24: Director(a) de la IEP. N°
C25: Motivo: Soy el autor del documento
C26: =NOW() -> 44191.416

Sheet Compromiso 3
A3: COMPROMISO 3: CALENDARIZACIÓN Y GESTIÓN DE LAS CONDICIONES OPERATIVAS RVM 133-2020-MINEDU
A4: COMPROMISO | B4: PRACTICAS DE GESTIÓN | C4: ACTIVIDADES | D4: ACTIVIDADES IMPLEMENTADAS | E4: EVIDENCIAS | F4: LOGROS | G4: DIFICULTADES | H4: PROPUESTA DE MEJORA 2021
A5: C3: CALENDARIZACIÓN Y GESTIÓN DE LAS CONDICIONES OPERATIVAS | B5: Matrícula | C5: Gestión oportuna y sin condicionamiento de la matrícula.
B6: Gestión de las condiciones operativas | C6: Programa de Mantenimiento 2020 (2020-1)
C7: Acondicionamiento de locales educativos para la mejora de condiciones de accesibilidad y la adquisición de materiales pedagógicos y tecnológicos para la atención de estudiantes con Necesidades Educativas Especiales (NEE) asociadas a discapacidad para el año 2020 (2020-2)
C8: Adquisición de kits de higiene (2020- 3)
B9: Entrega y uso oportuno de los materiales educativos | C9: Distribución oportuna y promoción del uso pedagógico de los recursos educativos.
B10: Educación ambiental, gestión de riesgo de desastres y salud escolar | C10: Gestión de riesgo de desastres
C11: Salud Escolar
B14: Firmado digitalmente por:
B15: Prof. YreneXXXXXXXXXXX
B16: Director(a) de la IEP. N°
B17: Motivo: Soy el autor del documento
B18: =NOW() -> 44191.416

Sheet Compromiso 4
A3: ACOMPAÑAMIENTO Y MONITOREO A LOS DOCENTES PARA LA MEJORA DE LAS PRÁCTICAS PEDAGÓGICAS ORIENTADAS AL LOGRO DE APRENDIZAJES PREVISTOS EN EL CNEB
A4: Número de monitoreos planificados | B4: ACTIVIDADES | C4: ACTIVIDADES IMPLEMENTADAS (Describir las actividades realizadas) | D4: EVIDENCIAS | E4: META | F4: Número de monitoreos realizados | G4: Porcentaje de monitoreos realizados | H4: LOGROS | I4: DIFICULTADES | J4: PROPUESTA DE MEJORA 2021
A5: PRÁCTICAS DE GESTIÓN | F5: INDICADORES | G5: INDICADORES
A6: 4.1. Acompañamiento pedagógico y espacios de trabajo colegiado. | B6: 4.1.1. Monitoreo al trabajo colegiado con los docentes. | F6: Número de monitoreo al trabajo colegiado realizados los docentes durante el año escolar considerados en el Plan de Monitoreo. | G6: Porcentaje de monitoreo al trabajo colegiado realizados los docentes durante el año escolar considerados en el Plan de Monitoreo.
B7: 4.1.2.Monitoreo utilizando otras estrategias de acompañamiento pedagógico para fortalecer la práctica pedagógica con los docentes. | F7: Número de monitoreos utilizando otras estrategias de acompañamiento pedagógico para fortalecer la práctica pedagógica de los docentes. | G7: Porcentaje de monitoreos utilizando otras estrategias de acompañamiento pedagógico para fortalecer la práctica pedagógica de los docentes.
B8: 4.1.3. Monitoreo sobre el involucramiento y compromiso de las familias en el proceso educativo de sus hijos. | F8: Número de jornadas y encuentros con padres de familia para contribuir al logro de los aprendizajes de los estudiantes. | G8: Porcentaje de jornadas y encuentros con padres de familia para contribuir al logro de los aprendizajes de los estudiantes.
A9: 4.2. Monitoreo de la práctica pedagógica. | B9: 4.2.1. Monitoreo de la práctica pedagógica utilizando Rúbricas de Observación de Aula para recoger información sobre su desempeño, identificar fortalezas, necesidades y realizar estrategias de fortalecimiento. | F9: Número de monitoreos realizados a la práctica pedagógica utilizando Rúbricas de Observación de Aula de acuerdo al Plan de Monitoreo. | G9: Porcentaje de monitoreos realizados a la práctica pedagógica utilizando Rúbricas de Observación de Aula de acuerdo al Plan de Monitoreo.
B10: 4.2.2. Monitoreo de la práctica pedagógica utilizando otros instumentos para recoger información sobre su desempeño, identificar fortalezas, necesidades y realizar estrategias de fortalecimiento. | F10: Número de monitoreos realizados a la práctica pedagógica utilizando otros instrumentos para recoger la información de acuerdo al Plan de Monitoreo. | G10: Porcentaje de monitoreos realizados a la práctica pedagógica utilizando otros instrumentos para recoger la información de acuerdo al Plan de Monitoreo.
A11: 4.3. Monitoreo y acompañamiento del avance de los aprendizajes de los estudiantes. | B11: 4.3.1. Análisis periódico del progreso del aprendizaje de las y los estudiantes para identificar alertas. | F11: Número de jornadas de reflexión y análisis crítico sobre el progreso de los aprendizajes de las y los estudiantes. | G11: Porcentaje de jornadas de reflexión y análisis crítico sobre el progreso de los aprendizajes de las y los estudiantes.
B12: 4.3.2. Implementación de estrategias de mejora para favorecer el progreso del aprendizaje de las y los estudiantes. | F12: Número de estrategias de mejora para favorecer el progreso del aprendizaje de las y los estudiantes, consideradas en el Plan de Mejora de los aprendizajes. | G12: Porcentaje de estrategias de mejora para favorecer el progreso del aprendizaje de las y los estudiantes, consideradas en el Plan de Mejora de los aprendizajes.
B13: 4.3.3. Recojo de información sobre las condiciones de conectividad de sus estudiantes. | F13: Número de estrategias de mejora para favorecer el progreso del aprendizaje de las y los estudiantes, consideradas en el Plan de Mejora de los aprendizajes. | G13: Porcentaje de monitoreos y acompañamiento del docente sobre las condiciones de conectividad de sus estudiantes
D16: Firmado digitalmente por:
D17: Prof. Yrene XXXXXXXXXXX
D18: Director(a) de la IEP. N°
D19: Motivo: Soy el autor del documento
D20: =NOW() -> 44191.416

Sheet Compromiso 5
A3: COMPROMISO 5: GESTIÓN DE LA CONVIVENCIA ESCOLAR
A4: PRÁCTICAS DE GESTIÓN | B4: ACTIVIDADES | C4: ACTIVIDADES IMPLEMENTADAS (Describir las actividades realizadas) | D4: EVIDENCIAS | E4: META | F4: LOGROS | G4: DIFICULTADES | H4: PROPUESTA DE MEJORA 2021
A5: 5.1. Promoción de la convivencia escolar. | B5: 5.1.1. Espacios democráticos de participación.
B6: 5.1.2.Actualización de las normas de convivencia de la IE.
B7: 5.1.3. Medidas correctivas en la educación a distancia.
A8: 5.2. Actuación frente a situaciones de violencia en el hogar contra niñas, niños y adolescentes | B8: 5.2.1. Red de protección para la prevención y atención de la violencia escolar.
A9: 5.3. Atención oportuna de situaciones de violencia contra niñas, niños y adolescentes. | B9: 5.3.1. Hechos de violencia detectados en el ámbito escolar entre estudiantes, en condiciones de educación a distancia.
B10: 5.3.2. Hechos de violencia detectados en el ámbito escolar entre personal de la IE contra estudiantes, en condiciones de educación a distancia.
B11: 5.3.3. Hechos de violencia detectados en el ámbito escolar por personas del entorno familiar o cualquier otra persona ajena a la IE, en condiciones de educación a distancia..
B14: Firmado digitalmente por:
B15: Prof. Yrene XXXXXXXXXXX
B16: Director(a) de la IEP. N°
B17: Motivo: Soy el autor del documento
B18: =NOW() -> 44191.416

Sheet Anexo 2 y 3
A5: Anexo 2 y 3: INFORME CONSOLIDADO DE ESTUDIANTES QUE ACCEDIERON A LA ESTRATEGIA “APRENDO EN CASA”
A6: Grado de estudios | B6: Nº Estudiantes matriculados 2020 (No considerar los estudiantes que se trasladaron a otra IE) | C6: Nº Estudiantes que participaron de AeC | D6: % | E6: N° Estudiantes incorporados de manera tardía a AeC | F6: % | G6: N° Estudiantes sin contacto con la IE en la AeC | H6: %
A7: Primero | B7: =('Compromiso 2'!G6) -> 0 | D7: =(C7*100)/B7 -> #DIV/0! | F7: =(E7*100)/B7 -> #DIV/0! | H7: =(G7*100)/B7 -> #DIV/0!
A8: Segundo | B8: =('Compromiso 2'!G8) -> 0 | D8: =(C8*100)/B8 -> #DIV/0! | F8: =(E8*100)/B8 -> #DIV/0! | H8: =(G8*100)/B8 -> #DIV/0!
A9: Tercero | B9: =('Compromiso 2'!G10) -> 0 | D9: =(C9*100)/B9 -> #DIV/0! | F9: =(E9*100)/B9 -> #DIV/0! | H9: =(G9*100)/B9 -> #DIV/0!
A10: Cuarto | B10: =('Compromiso 2'!G12) -> 0 | D10: =(C10*100)/B10 -> #DIV/0! | F10: =(E10*100)/B10 -> #DIV/0! | H10: =(G10*100)/B10 -> #DIV/0!
A11: Quinto | B11: =('Compromiso 2'!G14) -> 0 | D11: =(C11*100)/B11 -> #DIV/0! | F11: =(E11*100)/B11 -> #DIV/0! | H11: =(G11*100)/B11 -> #DIV/0!
A12: Sexto | B12: =('Compromiso 2'!G16) -> 0 | D12: =(C12*100)/B12 -> #DIV/0! | F12: =(E12*100)/B12 -> #DIV/0! | H12: =(G12*100)/B12 -> #DIV/0!
A13: Total | B13: =SUM(B7:B12) -> 0 | C13: =SUM(C7:C12) -> 0 | D13: =(C13*100)/B13 -> #DIV/0! | E13: =SUM(E7:E12) -> 0 | F13: =(E13*100)/B13 -> #DIV/0! | G13: =SUM(G7:G12) -> 0 | H13: =(G13*100)/B13 -> #DIV/0!
E16: Firmado digitalmente por:
E17: Prof.
E18: Director(a) de la IEP. N°
E19: Motivo: Soy el autor del documento
E20: =NOW() -> 44191.416

Sheet Anexo 2 y 3 Innovación
A4: PROYECTOS DE INNOVACIÓN
A6: N° de Proyecto | B6: Nombre de la Institución Educativa | E6: Grado / sección | F6: Lugar | G6: Distrito | H6: Tipo de Proyecto (Escuela semilla, Proyecto de innovación pedagógica, iniciativa pedagógica) | I6: Denominación del Proyecto Innovador
A7: 1
A8: 2 | L8: Cabana
A9: 3 | L9: Cabanillas
A10: 4 | L10: Caracoto
A11: 5 | L11: San Miguel
A12: 6 | L12: Juliaca
A14: DATOS PERSONALES DEL RESPONSABLE DEL PROYECTO DE INNOVACIÓN
A15: N° de Proyecto | B15: Nombre del Proyecto Innovador | C15: Apellidos y Nombres | E15: N° DNI | F15: Teléfono / N° de celular | G15: Correo Electrónico | I15: Condición Laboral | J15: Escala Magisterial
A16: 1 | B16: =(I7) -> 0 | L16: Nombrado | M16: I
A17: 2 | B17: =(I8) -> 0 | L17: Contratado | M17: II
A18: 3 | B18: =(I9) -> 0 | M18: III
A19: 4 | B19: =(I10) -> 0 | M19: IV
A20: 5 | B20: =(I11) -> 0 | M20: V
A21: 6 | B21: =(I12) -> 0 | M21: VI
M22: VII
A23: FINANCIAMIENTO DEL PROYECTO
A25: Nombre del Proyecto Innovador | C25: Financiamiento (si/no) | D25: Monto de financiamiento | E25: Presupuesto aprobado (si/no) | F25: Presupuesto entregado(si/no) | G25: Equipos, materiales, insumos, etc. | H25: Unidades | I25: N° de Pecosa | J25: Observaciones
A26: =(I7) -> 0
A27: =(I8) -> 0 | L27: SI
A28: =(I9) -> 0 | L28: NO
A29: =(I10) -> 0
A30: =(I11) -> 0
A31: =(I12) -> 0

Sheet Anexo 4 Autoevaluación
A6: AUTOEVALUACIÓN INSTITUCIONAL (SINEACE)
A8: Datos de la Institución Educativa:
A10: Institución Educativa | C10: Código Modular | E10: Distrito | G10: Lugar | I10: Nombre del Director (a)
A14: Miembros del Comité de Calidad
A15: Nombres y Apellidos | E15: Cargo | G15: DNI | H15: Correo Electrónico | J15: N° Celular | K15: Especialidad | L15: Condición | M15: Escala Magisterial
O16: Nombrado | P16: I
O17: Contratado | P17: II
P18: III
P19: IV
P20: V
P21: VI
P22: VII
A29: NOTA: Complete este anexo solo si la IE está resgistrado en SINEACE.

Sheet Hoja1
